BEGIN:VCALENDAR
VERSION:2.0
PRODID:-//eventon.com NONSGML v1.0//EN
CALSCALE:GREGORIAN
METHOD:PUBLISH
BEGIN:VEVENT
UID:69e737b2e8ac0
DTSTAMP:20260421T083914Z
DTSTART:20250527T193000Z
DTEND:20250527T210000Z
LOCATION:La Sede de Pérez-Llorca P.º de la Castellana\,  50\,  28046 Madrid
SUMMARY:Presentación del libro “Olympe de Gouges” de Julia Sevilla Merino
DESCRIPTION:[vc_row][vc_column][vc_column_text] Presentación del libro de 
 Julia Sevilla Merino\,  “Olympe de Gouges” [/vc_column_text][vc_column
 _text] Lugar: Sede Pérez-Llorca (Pº Castellana\,  nº 50) [/vc_column_tex
 t][vc_raw_html css=»»]JTBBJTIwJTIwJTNDaWZyYW1lJTIwc3JjJTNEJTIyaHR0cHMlM0E
 lMkYlMkZtdWplcmVzYXZlbmlyLmNvbSUyRndwLWNvbnRlbnQlMkZ1cGxvYWRzJTJGMjAyNSUyRj
 A1JTJGSU5WSVRBQ0lPTi0yNy1NQVlPLnBkZl9jb21wcmVzc2VkLnBkZiUyMiUyMHN0eWxlJTNEJ
 TIyYm9yZGVyJTNBbm9uZSUzQiUyMHdpZHRoJTNBNTAwcHglM0IlMjBoZWlnaHQlM0EzMDBweCUz
 QiUyMiUzRSUzQyUyRmlmcmFtZSUzRQ==[/vc_raw_html][/vc_column][/vc_row][vc_row]
 [vc_column][vc_column_text css=»»] Estimado/a socio/a\,  Nuestra Asociaci
 ón de Amistad Hispano Francesa Mujeres Avenir\,  ha considerado importante
  el convocaros para la presentación que haremos del libro “Olympe de Go
 uges”\,  escrito por Julia Sevilla Merino\, [..]\nhttps://mujeresavenir.c
 om/events/presentacion-del-libro-olympe-de-gouges-de-julia-sevilla-merino/
URL:https://mujeresavenir.com/events/presentacion-del-libro-olympe-de-gouges-de-julia-sevilla-merino/
END:VEVENT
END:VCALENDAR