BEGIN:VCALENDAR
VERSION:2.0
PRODID:-//eventon.com NONSGML v1.0//EN
CALSCALE:GREGORIAN
METHOD:PUBLISH
BEGIN:VEVENT
UID:69eb0c87e47f7
DTSTAMP:20260424T062407Z
DTSTART:20190625T190000Z
DTEND:20190625T203000Z
LOCATION:El Club Financiero Génova
SUMMARY:El Colectivo LGBT: contexto profesional y marco legal
DESCRIPTION:[vc_row][vc_column][vc_column_text] Ponentes: Marta Fernández 
 Herraiz es fundadora de LesWorking\,  la primera red profesional internacio
 nal para mujeres lesbianas\,  y co-directora general de REDI\,  la Red Empr
 esarial por la Diversidad e Inclusión LGBTI en España. Carla Antonelli es
  una actriz\,  política y reconocida activista de los derechos LGBT. En la
  actualidad es[..]\nhttps://mujeresavenir.com/events/el-colectivo-lgbt-cont
 exto-profesional-y-marco-legal/
URL:https://mujeresavenir.com/events/el-colectivo-lgbt-contexto-profesional-y-marco-legal/
END:VEVENT
END:VCALENDAR