BEGIN:VCALENDAR
VERSION:2.0
PRODID:-//eventon.com NONSGML v1.0//EN
CALSCALE:GREGORIAN
METHOD:PUBLISH
BEGIN:VEVENT
UID:69e7391255e9c
DTSTAMP:20260421T084506Z
DTSTART:20181016T190000Z
DTEND:20181016T210000Z
LOCATION:Embajada de Rumanía Av. de Alfonso XIII\,  157\,  28016 Madrid
SUMMARY:La naturaleza: una fuente de inspiración para un emprendimiento sostenible
DESCRIPTION:[vc_row][vc_column][vc_column_text] Intervendrán como ponentes
  Iulia Neagoe ( Fundadora de Luviane-Atelier de Parfumerie)\,  Matilde Pel
 egrí Torres (Socia-Fundadora de Grupo SENDA)\,  Adina Oancea (Directora 
 General de Careless Beauty Bucarest)\,  Katy Ségal  (Cofundadora de LESCR
 EATRICES by A&amp;K\,  )\,  Andreea Tron (Joven emprendedora\,  taller Tro
 n ).  Moderará el acto Rebeca Ávila Álvarez (Dtra  de Comunicación 
 en AccorHotels y Experta &amp;[..]\nhttps://mujeresavenir.com/events/acto-d
 e-mujeres-avenir-en-colaboracion-con-la-embajada-de-rumania/
URL:https://mujeresavenir.com/events/acto-de-mujeres-avenir-en-colaboracion-con-la-embajada-de-rumania/
END:VEVENT
END:VCALENDAR