BEGIN:VCALENDAR
VERSION:2.0
PRODID:-//eventon.com NONSGML v1.0//EN
CALSCALE:GREGORIAN
METHOD:PUBLISH
BEGIN:VEVENT
UID:69ed4cc48cebd
DTSTAMP:20260425T232244Z
DTSTART:20180125T190000Z
DTEND:20180125T210000Z
LOCATION:Museo Arqueológico Nacional Calle de Serrano\,  13
SUMMARY:Arqueología: una ciencia para la sociedad
DESCRIPTION:[vc_row][vc_column][vc_column_text] Moderado por Carmen Marcos 
 Alonso\,  Subdirectora del Museo Arqueológico Nacional. [/vc_column_text][
 vc_row_inner][vc_column_inner width=»1/2&#8243;]Descargar Programa[/vc_col
 umn_inner][vc_column_inner width=»1/2&#8243;][/vc_column_inner][/vc_row_in
 ner][/vc_column][/vc_row][vc_row][vc_column][vc_column_text] Ver el acto en
  streaming: [/vc_column_text][vc_row_inner][vc_column_inner][vc_column_text
 ][/vc_column_text][/vc_column_inner][/vc_row_inner][/vc_column][/vc_row][vc
 _row][vc_column][vc_column_text] Patrocinado por: [/vc_column_text][vc_row_
 inner][vc_column_inner width=»1/3&#8243;][vc_single_image image=»8655&#82
 43; img_size=»medium»][/vc_column_inner][vc_column_inner width=»1/3&#824
 3;][vc_single_image image=»8659&#8243; img_size=»medium»][/vc_column_inn
 er][vc_column_inner width=»1/3&#8243;][vc_single_image image=»8688&#8243;
  img_size=»medium»][/vc_column_inner][/vc_row_inner][/vc_column][/vc_row]
 \nhttps://mujeresavenir.com/events/arqueologia-epoca-clasica/
URL:https://mujeresavenir.com/events/arqueologia-epoca-clasica/
END:VEVENT
END:VCALENDAR