BEGIN:VCALENDAR
VERSION:2.0
PRODID:-//eventon.com NONSGML v1.0//EN
CALSCALE:GREGORIAN
METHOD:PUBLISH
BEGIN:VEVENT
UID:69ed60e902aeb
DTSTAMP:20260426T004841Z
DTSTART:20171212T191500Z
DTEND:20171212T210000Z
LOCATION:Institut Français Calle Marqués de la Ensenada\,  12
SUMMARY:El humor en femenino
DESCRIPTION:[vc_row][vc_column][vc_column_text] Con la intervención de Oli
 via Moore\,  humorista y coproductora de su espectáculo “Mère indigne
  y Carolina Noriega\,  actriz\,  humorista\,  cómica y monologuista. [/v
 c_column_text][vc_row_inner][vc_column_inner width=»1/2&#8243;]Descargar P
 rograma[/vc_column_inner][vc_column_inner width=»1/2&#8243;][/vc_column_in
 ner][/vc_row_inner][vc_column_text] Seguir el acto en streaming [/vc_column
 _text][vc_column_text][/vc_column_text][/vc_column][/vc_row][vc_row][vc_col
 umn][vc_column_text] Patrocinado por: [/vc_column_text][vc_row_inner][vc_co
 lumn_inner width=»1/3&#8243;][vc_single_image image=»8659&#8243; img_size
 =»medium»][/vc_column_inner][vc_column_inner width=»1/3&#8243;][vc_singl
 e_image image=»8368&#8243; img_size=»medium»][/vc_column_inner][vc_colum
 n_inner width=»1/3&#8243;][/vc_column_inner][/vc_row_inner][/vc_column][/v
 c_row][vc_row][vc_column][/vc_column][/vc_row]\nhttps://mujeresavenir.com/e
 vents/mujeres-humoristas/
URL:https://mujeresavenir.com/events/mujeres-humoristas/
END:VEVENT
END:VCALENDAR